BEGIN:VCALENDAR
VERSION:2.0
PRODID:-//WESTERN KENTUCKY UNIVERSITY VJ&amp;P - ECPv6.15.20//NONSGML v1.0//EN
CALSCALE:GREGORIAN
METHOD:PUBLISH
X-WR-CALNAME:WESTERN KENTUCKY UNIVERSITY VJ&amp;P
X-ORIGINAL-URL:https://wkuvjp.com
X-WR-CALDESC:Events for WESTERN KENTUCKY UNIVERSITY VJ&amp;P
REFRESH-INTERVAL;VALUE=DURATION:PT1H
X-Robots-Tag:noindex
X-PUBLISHED-TTL:PT1H
BEGIN:VTIMEZONE
TZID:America/Chicago
BEGIN:DAYLIGHT
TZOFFSETFROM:-0600
TZOFFSETTO:-0500
TZNAME:CDT
DTSTART:20150308T080000
END:DAYLIGHT
BEGIN:STANDARD
TZOFFSETFROM:-0500
TZOFFSETTO:-0600
TZNAME:CST
DTSTART:20151101T070000
END:STANDARD
BEGIN:DAYLIGHT
TZOFFSETFROM:-0600
TZOFFSETTO:-0500
TZNAME:CDT
DTSTART:20160313T080000
END:DAYLIGHT
BEGIN:STANDARD
TZOFFSETFROM:-0500
TZOFFSETTO:-0600
TZNAME:CST
DTSTART:20161106T070000
END:STANDARD
BEGIN:DAYLIGHT
TZOFFSETFROM:-0600
TZOFFSETTO:-0500
TZNAME:CDT
DTSTART:20170312T080000
END:DAYLIGHT
BEGIN:STANDARD
TZOFFSETFROM:-0500
TZOFFSETTO:-0600
TZNAME:CST
DTSTART:20171105T070000
END:STANDARD
BEGIN:DAYLIGHT
TZOFFSETFROM:-0600
TZOFFSETTO:-0500
TZNAME:CDT
DTSTART:20180311T080000
END:DAYLIGHT
BEGIN:STANDARD
TZOFFSETFROM:-0500
TZOFFSETTO:-0600
TZNAME:CST
DTSTART:20181104T070000
END:STANDARD
BEGIN:DAYLIGHT
TZOFFSETFROM:-0600
TZOFFSETTO:-0500
TZNAME:CDT
DTSTART:20190310T080000
END:DAYLIGHT
BEGIN:STANDARD
TZOFFSETFROM:-0500
TZOFFSETTO:-0600
TZNAME:CST
DTSTART:20191103T070000
END:STANDARD
BEGIN:DAYLIGHT
TZOFFSETFROM:-0600
TZOFFSETTO:-0500
TZNAME:CDT
DTSTART:20200308T080000
END:DAYLIGHT
BEGIN:STANDARD
TZOFFSETFROM:-0500
TZOFFSETTO:-0600
TZNAME:CST
DTSTART:20201101T070000
END:STANDARD
BEGIN:DAYLIGHT
TZOFFSETFROM:-0600
TZOFFSETTO:-0500
TZNAME:CDT
DTSTART:20210314T080000
END:DAYLIGHT
BEGIN:STANDARD
TZOFFSETFROM:-0500
TZOFFSETTO:-0600
TZNAME:CST
DTSTART:20211107T070000
END:STANDARD
BEGIN:DAYLIGHT
TZOFFSETFROM:-0600
TZOFFSETTO:-0500
TZNAME:CDT
DTSTART:20220313T080000
END:DAYLIGHT
BEGIN:STANDARD
TZOFFSETFROM:-0500
TZOFFSETTO:-0600
TZNAME:CST
DTSTART:20221106T070000
END:STANDARD
BEGIN:DAYLIGHT
TZOFFSETFROM:-0600
TZOFFSETTO:-0500
TZNAME:CDT
DTSTART:20230312T080000
END:DAYLIGHT
BEGIN:STANDARD
TZOFFSETFROM:-0500
TZOFFSETTO:-0600
TZNAME:CST
DTSTART:20231105T070000
END:STANDARD
BEGIN:DAYLIGHT
TZOFFSETFROM:-0600
TZOFFSETTO:-0500
TZNAME:CDT
DTSTART:20240310T080000
END:DAYLIGHT
BEGIN:STANDARD
TZOFFSETFROM:-0500
TZOFFSETTO:-0600
TZNAME:CST
DTSTART:20241103T070000
END:STANDARD
BEGIN:DAYLIGHT
TZOFFSETFROM:-0600
TZOFFSETTO:-0500
TZNAME:CDT
DTSTART:20250309T080000
END:DAYLIGHT
BEGIN:STANDARD
TZOFFSETFROM:-0500
TZOFFSETTO:-0600
TZNAME:CST
DTSTART:20251102T070000
END:STANDARD
END:VTIMEZONE
BEGIN:VEVENT
DTSTART;TZID=America/Chicago:20240123T193000
DTEND;TZID=America/Chicago:20240123T203000
DTSTAMP:20260423T042125
CREATED:20240121T182117Z
LAST-MODIFIED:20240121T194859Z
UID:4259-1706038200-1706041800@wkuvjp.com
SUMMARY:Spring 2024 Majors Meeting
DESCRIPTION:Are you interested in pursuing photography or visual journalism  and documentary as a career? Are you curious what that might mean? Please come to our spring semester majors meeting Tuesday\, January 23 at 7:30 pm in JRH 127. Lots of information\, get a chance to meet other students with similar interests and perhaps even win a tacky door prize! We are looking forward to seeing you there.
URL:https://wkuvjp.com/event/spring-2024-majors-meeting/
LOCATION:JRH Room 127\, 1665 Normal St.\, Bowling Green\, KY\, 42101\, United States
CATEGORIES:Major's Meetings
ORGANIZER;CN="James Kenney":MAILTO:james.kenney@wku.edu
END:VEVENT
BEGIN:VEVENT
DTSTART;TZID=America/Chicago:20230119T193000
DTEND;TZID=America/Chicago:20230119T210000
DTSTAMP:20260423T042125
CREATED:20230116T192425Z
LAST-MODIFIED:20230116T192802Z
UID:4077-1674156600-1674162000@wkuvjp.com
SUMMARY:Spring 2023 Majors Meeting
DESCRIPTION:  \nTHURSDAY! January 19 at 7:30 PM \nJRH Room 127 \nAll Majors and minors should attend our semester meeting where we will go over so many details of this amazing upcoming semester. There is a lot going on – be present\, be engaged. It is your future! \n 
URL:https://wkuvjp.com/event/spring-2023-majors-meeting/
LOCATION:JRH Room 127\, 1665 Normal St.\, Bowling Green\, KY\, 42101\, United States
CATEGORIES:Major's Meetings
END:VEVENT
BEGIN:VEVENT
DTSTART;TZID=America/Chicago:20230119T193000
DTEND;TZID=America/Chicago:20230119T210000
DTSTAMP:20260423T042125
CREATED:20230116T192425Z
LAST-MODIFIED:20230116T192425Z
UID:4392-1674156600-1674162000@wkuvjp.com
SUMMARY:Spring 2023 Majors Meeting
DESCRIPTION:  \nTHURSDAY! January 19 at 7:30 PM \nJRH Room 127 \nAll Majors and minors should attend our semester meeting where we will go over so many details of this amazing upcoming semester. There is a lot going on – be present\, be engaged. It is your future! \n 
URL:https://wkuvjp.com/event/spring-2023-majors-meeting-2/
LOCATION:JRH Room 127\, 1665 Normal St.\, Bowling Green\, KY\, 42101\, United States
CATEGORIES:Major's Meetings
END:VEVENT
BEGIN:VEVENT
DTSTART;TZID=America/Chicago:20220125T173000
DTEND;TZID=America/Chicago:20220125T183000
DTSTAMP:20260423T042125
CREATED:20220120T195535Z
LAST-MODIFIED:20220124T152901Z
UID:3956-1643131800-1643135400@wkuvjp.com
SUMMARY:Spring Semester 2022 Majors/Minor Meeting
DESCRIPTION:Our PJ majors and minors meeting for the semester is Tuesday\, January 25\, at 5:30 p.m.\, in JRH Room 127. \nCome join us! This is a critical meeting for you to find out what the program has to offer and what opportunities/activities are coming up this semester\, as well as to meet the faculty and students in our fine program. \nEveryone is invited\, freshman to seniors and everyone in between! Don’t miss it!! Get involved!!!
URL:https://wkuvjp.com/event/spring-semester-2022-majors-minor-meeting/
LOCATION:JRH Room 127\, 1665 Normal St.\, Bowling Green\, KY\, 42101\, United States
CATEGORIES:Major's Meetings
ORGANIZER;CN="James Kenney":MAILTO:james.kenney@wku.edu
END:VEVENT
BEGIN:VEVENT
DTSTART;TZID=America/Chicago:20220125T173000
DTEND;TZID=America/Chicago:20220125T183000
DTSTAMP:20260423T042125
CREATED:20220120T195535Z
LAST-MODIFIED:20220120T195535Z
UID:4384-1643131800-1643135400@wkuvjp.com
SUMMARY:Spring Semester 2022 Majors/Minor Meeting
DESCRIPTION:Our PJ majors and minors meeting for the semester is Tuesday\, January 25\, at 5:30 p.m.\, in JRH Room 127. \nCome join us! This is a critical meeting for you to find out what the program has to offer and what opportunities/activities are coming up this semester\, as well as to meet the faculty and students in our fine program. \nEveryone is invited\, freshman to seniors and everyone in between! Don’t miss it!! Get involved!!!
URL:https://wkuvjp.com/event/spring-semester-2022-majors-minor-meeting-2/
LOCATION:JRH Room 127\, 1665 Normal St.\, Bowling Green\, KY\, 42101\, United States
CATEGORIES:Major's Meetings
ORGANIZER;CN="James Kenney":MAILTO:james.kenney@wku.edu
END:VEVENT
BEGIN:VEVENT
DTSTART;TZID=America/Chicago:20190502T170000
DTEND;TZID=America/Chicago:20190502T190000
DTSTAMP:20260423T042125
CREATED:20190408T161330Z
LAST-MODIFIED:20190502T172921Z
UID:3562-1556816400-1556823600@wkuvjp.com
SUMMARY:PJ End of Year Picnic - RAIN LOCATION!
DESCRIPTION:If you are a WKUPJ major or minor\, (seeking or admitted) we hope to see you at our end of the year traditional picnic/potluck. Bring a dish to pass\, a signup sheet is on the wall next to the equipment locker window. We will provide the main course – of course as we celebrate Cinco deMayo a few days early – you bring the chips\, desserts and drinks. Due to rain and storms\, we have moved to UU Church\, 2033 Nashville Rd.
URL:https://wkuvjp.com/event/pj-end-of-year-picnic/
LOCATION:UU Church\, 2033 Nahville Rd.\, Bowling Green\, KY\, 42101\, United States
CATEGORIES:Major's Meetings
ATTACH;FMTTYPE=image/png:https://wkuvjp.com/wp-content/uploads/2019/04/pjpicnic_2019.png
ORGANIZER;CN="WKUPJ":MAILTO:tim.broekema@wku.edu
END:VEVENT
BEGIN:VEVENT
DTSTART;TZID=America/Chicago:20190502T170000
DTEND;TZID=America/Chicago:20190502T190000
DTSTAMP:20260423T042125
CREATED:20190408T161330Z
LAST-MODIFIED:20190408T161330Z
UID:4373-1556816400-1556823600@wkuvjp.com
SUMMARY:PJ End of Year Picnic - RAIN LOCATION!
DESCRIPTION:If you are a WKUPJ major or minor\, (seeking or admitted) we hope to see you at our end of the year traditional picnic/potluck. Bring a dish to pass\, a signup sheet is on the wall next to the equipment locker window. We will provide the main course – of course as we celebrate Cinco deMayo a few days early – you bring the chips\, desserts and drinks. Due to rain and storms\, we have moved to UU Church\, 2033 Nashville Rd.
URL:https://wkuvjp.com/event/pj-end-of-year-picnic-2/
LOCATION:UU Church\, 2033 Nahville Rd.\, Bowling Green\, KY\, 42101\, United States
CATEGORIES:Major's Meetings
ATTACH;FMTTYPE=image/png:https://wkuvjp.com/wp-content/uploads/2019/04/pjpicnic_2019.png
ORGANIZER;CN="WKUPJ":MAILTO:tim.broekema@wku.edu
END:VEVENT
BEGIN:VEVENT
DTSTART;TZID=America/Chicago:20180905T190000
DTEND;TZID=America/Chicago:20180905T203000
DTSTAMP:20260423T042125
CREATED:20180803T122207Z
LAST-MODIFIED:20180903T175035Z
UID:3160-1536174000-1536179400@wkuvjp.com
SUMMARY:PJ Majors & Minors Mixer Meeting
DESCRIPTION:Otherwise known as PJM&MMM will be at the DSU Night Class garage at the WKU student center. Free food and drinks! Come and meet your new classmates. Learn about upcoming events\, this year’s Mountain Workshops\, new gear in our checkout room\, the NPPA student chapter\, working for student publications\, how you can become one of our famous labbies\, maybe get some free stuff and much more! All declare PJ majors and minors are expected to attend. If you are interested in joining our program\, this is a great chance to visit and see what it is we do.
URL:https://wkuvjp.com/event/pj-majors-meeting-3/
LOCATION:Downing Student Union\, 1530 Avenue of Champions\, Bowling Green\, KY\, 42101\, United States
CATEGORIES:Major's Meetings
ORGANIZER;CN="James Kenney":MAILTO:james.kenney@wku.edu
END:VEVENT
BEGIN:VEVENT
DTSTART;TZID=America/Chicago:20180905T190000
DTEND;TZID=America/Chicago:20180905T203000
DTSTAMP:20260423T042125
CREATED:20180803T122207Z
LAST-MODIFIED:20180803T122207Z
UID:4360-1536174000-1536179400@wkuvjp.com
SUMMARY:PJ Majors & Minors Mixer Meeting
DESCRIPTION:Otherwise known as PJM&MMM will be at the DSU Night Class garage at the WKU student center. Free food and drinks! Come and meet your new classmates. Learn about upcoming events\, this year\’s Mountain Workshops\, new gear in our checkout room\, the NPPA student chapter\, working for student publications\, how you can become one of our famous labbies\, maybe get some free stuff and much more! All declare PJ majors and minors are expected to attend. If you are interested in joining our program\, this is a great chance to visit and see what it is we do.
URL:https://wkuvjp.com/event/pj-majors-meeting-3-2/
LOCATION:Downing Student Union\, 1530 Avenue of Champions\, Bowling Green\, KY\, 42101\, United States
CATEGORIES:Major's Meetings
ORGANIZER;CN="James Kenney":MAILTO:james.kenney@wku.edu
END:VEVENT
BEGIN:VEVENT
DTSTART;TZID=America/Chicago:20170830T193000
DTEND;TZID=America/Chicago:20170830T203000
DTSTAMP:20260423T042125
CREATED:20170817T145837Z
LAST-MODIFIED:20170817T145837Z
UID:2752-1504121400-1504125000@wkuvjp.com
SUMMARY:PJ Majors Meeting
DESCRIPTION:The Fall 2017 PJ Majors Meeting will be on Wednesday\, August 30 at 7:30 PM in the MMTH Auditorium. Everyone in the major or those seeking admission are encouraged to attend – in fact\, lets just say it is mandatory to attend. Fantastic door prizes will be given!
URL:https://wkuvjp.com/event/pj-majors-meeting-2/
LOCATION:JRH Gallery / Atrium and Auditorium\, 1665 Normal Drive\, Bowling Green\, KY\, 42101\, United States
CATEGORIES:Major's Meetings
ORGANIZER;CN="James Kenney":MAILTO:james.kenney@wku.edu
END:VEVENT
BEGIN:VEVENT
DTSTART;TZID=America/Chicago:20170830T193000
DTEND;TZID=America/Chicago:20170830T203000
DTSTAMP:20260423T042125
CREATED:20170817T145837Z
LAST-MODIFIED:20170817T145837Z
UID:4350-1504121400-1504125000@wkuvjp.com
SUMMARY:PJ Majors Meeting
DESCRIPTION:The Fall 2017 PJ Majors Meeting will be on Wednesday\, August 30 at 7:30 PM in the MMTH Auditorium. Everyone in the major or those seeking admission are encouraged to attend – in fact\, lets just say it is mandatory to attend. Fantastic door prizes will be given!
URL:https://wkuvjp.com/event/pj-majors-meeting-2-2/
LOCATION:JRH Gallery / Atrium and Auditorium\, 1665 Normal Drive\, Bowling Green\, KY\, 42101\, United States
CATEGORIES:Major's Meetings
ORGANIZER;CN="James Kenney":MAILTO:james.kenney@wku.edu
END:VEVENT
BEGIN:VEVENT
DTSTART;TZID=America/Chicago:20170130T193000
DTEND;TZID=America/Chicago:20170130T203000
DTSTAMP:20260423T042125
CREATED:20170116T171203Z
LAST-MODIFIED:20170116T171203Z
UID:2552-1485804600-1485808200@wkuvjp.com
SUMMARY:PJ Majors Meeting
DESCRIPTION:Come one\, come all. It is time for our bi-annual PJ Majors meeting.
URL:https://wkuvjp.com/event/pj-majors-meeting/
LOCATION:JRH Gallery / Atrium and Auditorium\, 1665 Normal Drive\, Bowling Green\, KY\, 42101\, United States
CATEGORIES:Major's Meetings
END:VEVENT
BEGIN:VEVENT
DTSTART;TZID=America/Chicago:20170130T193000
DTEND;TZID=America/Chicago:20170130T203000
DTSTAMP:20260423T042125
CREATED:20170116T171203Z
LAST-MODIFIED:20170116T171203Z
UID:4342-1485804600-1485808200@wkuvjp.com
SUMMARY:PJ Majors Meeting
DESCRIPTION:Come one\, come all. It is time for our bi-annual PJ Majors meeting.
URL:https://wkuvjp.com/event/pj-majors-meeting-4/
LOCATION:JRH Gallery / Atrium and Auditorium\, 1665 Normal Drive\, Bowling Green\, KY\, 42101\, United States
CATEGORIES:Major's Meetings
END:VEVENT
BEGIN:VEVENT
DTSTART;TZID=America/Chicago:20160202T193000
DTEND;TZID=America/Chicago:20160202T203000
DTSTAMP:20260423T042125
CREATED:20160201T214245Z
LAST-MODIFIED:20160201T214245Z
UID:2264-1454441400-1454445000@wkuvjp.com
SUMMARY:Major's Meeting (Spring'16)
DESCRIPTION:
URL:https://wkuvjp.com/event/majors-meeting-spring16/
LOCATION:JRH Room 127\, 1665 Normal St.\, Bowling Green\, KY\, 42101\, United States
CATEGORIES:Major's Meetings
END:VEVENT
BEGIN:VEVENT
DTSTART;TZID=America/Chicago:20160202T193000
DTEND;TZID=America/Chicago:20160202T203000
DTSTAMP:20260423T042125
CREATED:20160201T214245Z
LAST-MODIFIED:20160201T214245Z
UID:4324-1454441400-1454445000@wkuvjp.com
SUMMARY:Major\'s Meeting (Spring\'16)
DESCRIPTION:
URL:https://wkuvjp.com/event/majors-meeting-spring16-2/
LOCATION:JRH Room 127\, 1665 Normal St.\, Bowling Green\, KY\, 42101\, United States
CATEGORIES:Major's Meetings
END:VEVENT
END:VCALENDAR